BEGIN:VCALENDAR
VERSION:2.0
PRODID:-//Cena Con Delitto Milano - Organizza il tuo prossimo evento a Milano o Lombardia ! - ECPv6.15.20//NONSGML v1.0//EN
CALSCALE:GREGORIAN
METHOD:PUBLISH
X-ORIGINAL-URL:https://www.cenacondelittomilano.net
X-WR-CALDESC:Eventi per Cena Con Delitto Milano - Organizza il tuo prossimo evento a Milano o Lombardia !
REFRESH-INTERVAL;VALUE=DURATION:PT1H
X-Robots-Tag:noindex
X-PUBLISHED-TTL:PT1H
BEGIN:VTIMEZONE
TZID:Europe/Paris
BEGIN:DAYLIGHT
TZOFFSETFROM:+0100
TZOFFSETTO:+0200
TZNAME:CEST
DTSTART:20240331T010000
END:DAYLIGHT
BEGIN:STANDARD
TZOFFSETFROM:+0200
TZOFFSETTO:+0100
TZNAME:CET
DTSTART:20241027T010000
END:STANDARD
BEGIN:DAYLIGHT
TZOFFSETFROM:+0100
TZOFFSETTO:+0200
TZNAME:CEST
DTSTART:20250330T010000
END:DAYLIGHT
BEGIN:STANDARD
TZOFFSETFROM:+0200
TZOFFSETTO:+0100
TZNAME:CET
DTSTART:20251026T010000
END:STANDARD
BEGIN:DAYLIGHT
TZOFFSETFROM:+0100
TZOFFSETTO:+0200
TZNAME:CEST
DTSTART:20260329T010000
END:DAYLIGHT
BEGIN:STANDARD
TZOFFSETFROM:+0200
TZOFFSETTO:+0100
TZNAME:CET
DTSTART:20261025T010000
END:STANDARD
BEGIN:DAYLIGHT
TZOFFSETFROM:+0100
TZOFFSETTO:+0200
TZNAME:CEST
DTSTART:20270328T010000
END:DAYLIGHT
BEGIN:STANDARD
TZOFFSETFROM:+0200
TZOFFSETTO:+0100
TZNAME:CET
DTSTART:20271031T010000
END:STANDARD
END:VTIMEZONE
BEGIN:VEVENT
DTSTART;TZID=Europe/Paris:20251218T203000
DTEND;TZID=Europe/Paris:20251218T233000
DTSTAMP:20260420T040300
CREATED:20251101T143442Z
LAST-MODIFIED:20251101T143442Z
UID:2015-1766089800-1766100600@www.cenacondelittomilano.net
SUMMARY:Milano San Siro - America Graffiti
DESCRIPTION:  \nTRAMA: \nDELITTO ALLA HIGH SCHOOL \n \n\nSONO DISPONIBILI DUE TIPI DI MENU’ (uno da 28 euro e uno da 35 euro).\nSEGNALA EVENTUALI ALLERGIE O INTOLLERANZE ALIMENTARI\n  \n  \nRIASSUNTO DELLA TRAMA
URL:https://www.cenacondelittomilano.net/event/milano-san-siro-america-graffiti-6/
LOCATION:America Graffiti – Milano\, via Achille N. 4\, Milano\, 20152\, Italy
CATEGORIES:Milano
END:VEVENT
BEGIN:VEVENT
DTSTART;TZID=Europe/Paris:20251223T200000
DTEND;TZID=Europe/Paris:20251223T233000
DTSTAMP:20260420T040300
CREATED:20251101T144554Z
LAST-MODIFIED:20251101T144554Z
UID:2024-1766520000-1766532600@www.cenacondelittomilano.net
SUMMARY:Milano Bicocca - Wiener Haus
DESCRIPTION:  \nTRAMA: \n\nSEGNALA EVENTUALI ALLERGIE O INTOLLERANZE ALIMENTARI\n  \nRIASSUNTO DELLA TRAMA
URL:https://www.cenacondelittomilano.net/event/milano-bicocca-wiener-haus-10/
LOCATION:Wiener Haus Bicocca\, Bicocca Village\, Milano\, 20126\, Italy
CATEGORIES:Milano
END:VEVENT
BEGIN:VEVENT
DTSTART;TZID=Europe/Paris:20260109T203000
DTEND;TZID=Europe/Paris:20260110T000000
DTSTAMP:20260420T040300
CREATED:20251201T171639Z
LAST-MODIFIED:20251201T171639Z
UID:2061-1767990600-1768003200@www.cenacondelittomilano.net
SUMMARY:Milano - Enoteca Boscogrosso
DESCRIPTION:  \nTRAMA: \n \n\nSEGNALA EVENTUALI ALLERGIE O INTOLLERANZE ALIMENTARI\n  \n  \nRIASSUNTO DELLA TRAMA
URL:https://www.cenacondelittomilano.net/event/milano-enoteca-boscogrosso-7/
LOCATION:Enoteca Boscogrosso\, Via Giacomo Watt\, 14\, Milano\, 20143\, Italy
CATEGORIES:Milano
END:VEVENT
BEGIN:VEVENT
DTSTART;TZID=Europe/Paris:20260115T200000
DTEND;TZID=Europe/Paris:20260115T233000
DTSTAMP:20260420T040300
CREATED:20260107T170809Z
LAST-MODIFIED:20260107T170809Z
UID:2095-1768507200-1768519800@www.cenacondelittomilano.net
SUMMARY:Bicocca Milano - Wiener Haus
DESCRIPTION:  \nTRAMA: \n \n\nSEGNALA EVENTUALI ALLERGIE O INTOLLERANZE ALIMENTARI\n  \n  \nRIASSUNTO DELLA TRAMA
URL:https://www.cenacondelittomilano.net/event/bicocca-milano-wiener-haus/
LOCATION:Wiener Haus Bicocca\, Bicocca Village\, Milano\, 20126\, Italy
CATEGORIES:Milano
END:VEVENT
BEGIN:VEVENT
DTSTART;TZID=Europe/Paris:20260117T203000
DTEND;TZID=Europe/Paris:20260118T000000
DTSTAMP:20260420T040300
CREATED:20251201T172504Z
LAST-MODIFIED:20251201T172504Z
UID:2067-1768681800-1768694400@www.cenacondelittomilano.net
SUMMARY:Milano - Ristorante Corte della Risaia
DESCRIPTION:  \nTRAMA: \n \n\nSEGNALA EVENTUALI ALLERGIE O INTOLLERANZE ALIMENTARI\n  \n  \nRIASSUNTO DELLA TRAMA
URL:https://www.cenacondelittomilano.net/event/milano-ristorante-corte-della-risaia-3/
CATEGORIES:Milano
END:VEVENT
BEGIN:VEVENT
DTSTART;TZID=Europe/Paris:20260203T200000
DTEND;TZID=Europe/Paris:20260203T233000
DTSTAMP:20260420T040300
CREATED:20260121T175709Z
LAST-MODIFIED:20260121T181408Z
UID:2151-1770148800-1770161400@www.cenacondelittomilano.net
SUMMARY:Milano - Doppio Malto Duomo
DESCRIPTION:  \nTRAMA: \n \nPop corn di benvenuto \nAntipasto sfizioso fritto (veggie):\n      •     Anelli di cipolla\n      •     Rondelle di melanzane panate\n      •     Crocchette di patate \nPiatto principale a scelta:\n      •     Burger di pollo panato e fritto con marmellata di bacon e cipolla\n      •     Burger di filetto di merluzzo fritto con insalata gentile e salsa alla birra\n      •     Burger artigianale di manzo con insalata gentile e maionese\n      •     Burger No Meat (vegetale) con insalata gentile e salsa alla birra\n      •     Burger di sfilacciato di maiale cotto a bassa temperatura con cipolla rossa\, salsa BBQ alla birra e cavolo cappuccio\n      •     Pizza margherita\n      •     Pizza margherita con patatine \nDessert:\n      •     Mini cheesecake a gusti assortiti (frutti di bosco oppure Nutella) \n\nSEGNALA EVENTUALI ALLERGIE O INTOLLERANZE ALIMENTARI\n  \n  \nRIASSUNTO DELLA TRAMA
URL:https://www.cenacondelittomilano.net/event/milano-doppio-malto-duomo/
LOCATION:Doppio Malto Duomo – Milano\, via Dogana\, 1\, Milano\, Italia\, 20123\, Italy
CATEGORIES:Milano
END:VEVENT
BEGIN:VEVENT
DTSTART;TZID=Europe/Paris:20260206T203000
DTEND;TZID=Europe/Paris:20260207T000000
DTSTAMP:20260420T040300
CREATED:20260121T180509Z
LAST-MODIFIED:20260121T180924Z
UID:2161-1770409800-1770422400@www.cenacondelittomilano.net
SUMMARY:Milano - Enoteca Boscogrosso
DESCRIPTION:  \nTRAMA: \n \n\nSEGNALA EVENTUALI ALLERGIE O INTOLLERANZE ALIMENTARI\n  \n  \nRIASSUNTO DELLA TRAMA
URL:https://www.cenacondelittomilano.net/event/milano-enoteca-boscogrosso-9/
LOCATION:Wiener Haus Bicocca\, Bicocca Village\, Milano\, 20126\, Italy
CATEGORIES:Milano
END:VEVENT
BEGIN:VEVENT
DTSTART;TZID=Europe/Paris:20260212T200000
DTEND;TZID=Europe/Paris:20260212T233000
DTSTAMP:20260420T040300
CREATED:20260121T180220Z
LAST-MODIFIED:20260129T104847Z
UID:2159-1770926400-1770939000@www.cenacondelittomilano.net
SUMMARY:Milano Bicocca - Wiener Haus
DESCRIPTION:  \nTRAMA: \n \n\nSEGNALA EVENTUALI ALLERGIE O INTOLLERANZE ALIMENTARI\n \n  \nRIASSUNTO DELLA TRAMA
URL:https://www.cenacondelittomilano.net/event/milano-bicocca-wiener-haus-11/
LOCATION:Wiener Haus Bicocca\, Bicocca Village\, Milano\, 20126\, Italy
CATEGORIES:Milano
END:VEVENT
BEGIN:VEVENT
DTSTART;TZID=Europe/Paris:20260214T203000
DTEND;TZID=Europe/Paris:20260215T000000
DTSTAMP:20260420T040300
CREATED:20260121T181832Z
LAST-MODIFIED:20260121T181832Z
UID:2168-1771101000-1771113600@www.cenacondelittomilano.net
SUMMARY:Milano - Ristorante Corte della Risaia
DESCRIPTION:  \nTRAMA: \n \n\nSEGNALA EVENTUALI ALLERGIE O INTOLLERANZE ALIMENTARI\n  \n  \nRIASSUNTO DELLA TRAMA
URL:https://www.cenacondelittomilano.net/event/milano-ristorante-corte-della-risaia-4/
LOCATION:Corte della Risaia\, Via Bardolino\, 30\, Milano\, 20142\, Italy
CATEGORIES:Milano
END:VEVENT
BEGIN:VEVENT
DTSTART;TZID=Europe/Paris:20260219T200000
DTEND;TZID=Europe/Paris:20260219T233000
DTSTAMP:20260420T040300
CREATED:20260121T200642Z
LAST-MODIFIED:20260121T200642Z
UID:2185-1771531200-1771543800@www.cenacondelittomilano.net
SUMMARY:Milano San Siro - America Graffiti
DESCRIPTION:  \nTRAMA: \n \nSONO DISPONIBILI DUE TIPI DI MENU’ (uno da 28 euro e uno da 35 euro).\nSEGNALA EVENTUALI ALLERGIE O INTOLLERANZE ALIMENTARI\nVegani\, vegetariani\, celiaci e persone con intolleranze alimentari possono disporre di portate personalizzate. La scelta del menu va effettuata direttamente sul posto la sera dell’evento. \nSEGNALA EVENTUALI ALLERGIE O INTOLLERANZE ALIMENTARI\n  \n  \nRIASSUNTO DELLA TRAMA
URL:https://www.cenacondelittomilano.net/event/milano-san-siro-america-graffiti-8/
LOCATION:America Graffiti – Milano\, via Achille N. 4\, Milano\, 20152\, Italy
CATEGORIES:Milano
END:VEVENT
BEGIN:VEVENT
DTSTART;TZID=Europe/Paris:20260220T203000
DTEND;TZID=Europe/Paris:20260221T000000
DTSTAMP:20260420T040300
CREATED:20260121T201621Z
LAST-MODIFIED:20260217T123317Z
UID:2190-1771619400-1771632000@www.cenacondelittomilano.net
SUMMARY:Milano - Ristorante La Griglia di Saladino
DESCRIPTION:  \nTRAMA: \n \n  \nSEGNALA EVENTUALI ALLERGIE O INTOLLERANZE ALIMENTARI\n  \n  \nRIASSUNTO DELLA TRAMA
URL:https://www.cenacondelittomilano.net/event/milano-ristorante-la-griglia-di-saladino/
LOCATION:La Griglia di Saladino\, VIA SAN GALDINO N. 10\, Milano\, 20154\, Italy
CATEGORIES:Milano
END:VEVENT
BEGIN:VEVENT
DTSTART;TZID=Europe/Paris:20260227T200000
DTEND;TZID=Europe/Paris:20260227T233000
DTSTAMP:20260420T040300
CREATED:20260217T123831Z
LAST-MODIFIED:20260217T123831Z
UID:2247-1772222400-1772235000@www.cenacondelittomilano.net
SUMMARY:Solaro (MI) - Birra & Brace
DESCRIPTION:  \nTRAMA: \n \n  \nSEGNALA EVENTUALI ALLERGIE O INTOLLERANZE ALIMENTARI\n \n  \nRIASSUNTO DELLA TRAMA
URL:https://www.cenacondelittomilano.net/event/solaro-mi-birra-brace-2/
LOCATION:Birra & Brace – Solaro\, Via Varese\, 175/H\, Solaro\, Milano\, 20033\, Italy
CATEGORIES:Milano
END:VEVENT
BEGIN:VEVENT
DTSTART;TZID=Europe/Paris:20260305T200000
DTEND;TZID=Europe/Paris:20260305T233000
DTSTAMP:20260420T040300
CREATED:20260217T124750Z
LAST-MODIFIED:20260217T125044Z
UID:2250-1772740800-1772753400@www.cenacondelittomilano.net
SUMMARY:Milano (Bicocca) - Wiener Haus
DESCRIPTION:  \nTRAMA: \n \n  \nSEGNALA EVENTUALI ALLERGIE O INTOLLERANZE ALIMENTARI\n  \n  \nRIASSUNTO DELLA TRAMA
URL:https://www.cenacondelittomilano.net/event/milano-bicocca-wiener-haus-12/
LOCATION:Wiener Haus Bicocca\, Bicocca Village\, Milano\, 20126\, Italy
CATEGORIES:Milano
END:VEVENT
BEGIN:VEVENT
DTSTART;TZID=Europe/Paris:20260306T203000
DTEND;TZID=Europe/Paris:20260306T233000
DTSTAMP:20260420T040300
CREATED:20260217T125010Z
LAST-MODIFIED:20260417T151735Z
UID:2254-1772829000-1772839800@www.cenacondelittomilano.net
SUMMARY:Milano - Enoteca Boscogrosso
DESCRIPTION:  \nTRAMA: \n \n  \nSEGNALA EVENTUALI ALLERGIE O INTOLLERANZE ALIMENTARI\n  \nRIASSUNTO DELLA TRAMA
URL:https://www.cenacondelittomilano.net/event/milano-enoteca-boscogrosso-8/
LOCATION:Enoteca Boscogrosso\, Via Giacomo Watt\, 14\, Milano\, 20143\, Italy
CATEGORIES:Milano
END:VEVENT
BEGIN:VEVENT
DTSTART;TZID=Europe/Paris:20260314T203000
DTEND;TZID=Europe/Paris:20260315T000000
DTSTAMP:20260420T040300
CREATED:20260217T132720Z
LAST-MODIFIED:20260217T132735Z
UID:2279-1773520200-1773532800@www.cenacondelittomilano.net
SUMMARY:Milano - Corte della Risaia
DESCRIPTION:  \nTRAMA: \n \n  \nSEGNALA EVENTUALI ALLERGIE O INTOLLERANZE ALIMENTARI\n  \n  \nRIASSUNTO DELLA TRAMA
URL:https://www.cenacondelittomilano.net/event/milano-ristorante-corte-della-risaia-5/
LOCATION:Corte della Risaia\, Via Bardolino\, 30\, Milano\, 20142\, Italy
CATEGORIES:Milano
END:VEVENT
BEGIN:VEVENT
DTSTART;TZID=Europe/Paris:20260317T200000
DTEND;TZID=Europe/Paris:20260317T233000
DTSTAMP:20260420T040300
CREATED:20260303T114529Z
LAST-MODIFIED:20260303T114529Z
UID:2524-1773777600-1773790200@www.cenacondelittomilano.net
SUMMARY:Milano - Doppio Malto Duomo
DESCRIPTION:  \nTRAMA: \n \nPop corn di benvenuto \nAntipasto sfizioso fritto (veggie):\n      •     Anelli di cipolla\n      •     Rondelle di melanzane panate\n      •     Crocchette di patate \nPiatto principale a scelta:\n      •     Burger di pollo panato e fritto con marmellata di bacon e cipolla\n      •     Burger di filetto di merluzzo fritto con insalata gentile e salsa alla birra\n      •     Burger artigianale di manzo con insalata gentile e maionese\n      •     Burger No Meat (vegetale) con insalata gentile e salsa alla birra\n      •     Burger di sfilacciato di maiale cotto a bassa temperatura con cipolla rossa\, salsa BBQ alla birra e cavolo cappuccio\n      •     Pizza margherita\n      •     Pizza margherita con patatine \nDessert:\n      •     Mini cheesecake a gusti assortiti (frutti di bosco oppure Nutella) \n\nSEGNALA EVENTUALI ALLERGIE O INTOLLERANZE ALIMENTARI\n  \n  \nRIASSUNTO DELLA TRAMA
URL:https://www.cenacondelittomilano.net/event/milano-doppio-malto-duomo-2/
LOCATION:Doppio Malto Duomo – Milano\, via Dogana\, 1\, Milano\, Italia\, 20123\, Italy
CATEGORIES:Milano
ATTACH;FMTTYPE=image/jpeg:https://www.cenacondelittomilano.net/wp-content/uploads/2025/03/Romeo-e-Giulietta-con-Delitto.jpg
END:VEVENT
BEGIN:VEVENT
DTSTART;TZID=Europe/Paris:20260327T200000
DTEND;TZID=Europe/Paris:20260327T233000
DTSTAMP:20260420T040300
CREATED:20260217T134834Z
LAST-MODIFIED:20260217T134834Z
UID:2293-1774641600-1774654200@www.cenacondelittomilano.net
SUMMARY:Solaro (MI) - Birra & Brace
DESCRIPTION:  \nTRAMA: \n \n  \nSEGNALA EVENTUALI ALLERGIE O INTOLLERANZE ALIMENTARI\n \n  \nRIASSUNTO DELLA TRAMA
URL:https://www.cenacondelittomilano.net/event/solaro-mi-birra-brace-3/
LOCATION:Birra & Brace – Solaro\, Via Varese\, 175/H\, Solaro\, Milano\, 20033\, Italy
CATEGORIES:Milano
END:VEVENT
BEGIN:VEVENT
DTSTART;TZID=Europe/Paris:20260402T200000
DTEND;TZID=Europe/Paris:20260402T233000
DTSTAMP:20260420T040300
CREATED:20260217T135304Z
LAST-MODIFIED:20260217T135304Z
UID:2299-1775160000-1775172600@www.cenacondelittomilano.net
SUMMARY:Milano Bicocca - Wiener Haus
DESCRIPTION:  \nTRAMA: \n \n  \nSEGNALA EVENTUALI ALLERGIE O INTOLLERANZE ALIMENTARI\n \n  \nRIASSUNTO DELLA TRAMA
URL:https://www.cenacondelittomilano.net/event/milano-bicocca-wiener-haus-13/
LOCATION:Wiener Haus Bicocca\, Bicocca Village\, Milano\, 20126\, Italy
CATEGORIES:Milano
END:VEVENT
BEGIN:VEVENT
DTSTART;TZID=Europe/Paris:20260423T200000
DTEND;TZID=Europe/Paris:20260423T233000
DTSTAMP:20260420T040300
CREATED:20260217T141236Z
LAST-MODIFIED:20260217T141236Z
UID:2317-1776974400-1776987000@www.cenacondelittomilano.net
SUMMARY:Milano San Siro - America Graffiti
DESCRIPTION:  \nTRAMA: \n \n  \nSEGNALA EVENTUALI ALLERGIE O INTOLLERANZE ALIMENTARI\n \n  \nRIASSUNTO DELLA TRAMA
URL:https://www.cenacondelittomilano.net/event/milano-san-siro-america-graffiti-9/
LOCATION:America Graffiti – Milano\, via Achille N. 4\, Milano\, 20152\, Italy
CATEGORIES:Milano
END:VEVENT
BEGIN:VEVENT
DTSTART;TZID=Europe/Paris:20260424T203000
DTEND;TZID=Europe/Paris:20260425T000000
DTSTAMP:20260420T040300
CREATED:20260417T145043Z
LAST-MODIFIED:20260417T150000Z
UID:2700-1777062600-1777075200@www.cenacondelittomilano.net
SUMMARY:Milano - Enoteca Boscogrosso
DESCRIPTION:  \nTRAMA: \n \n  \nSEGNALA EVENTUALI ALLERGIE O INTOLLERANZE ALIMENTARI\n  \nOrganizziamo cene con delitto e attività di team building aziendale a Milano e in tutta Italia\, in diverse location partner. \n  \nRIASSUNTO DELLA TRAMA
URL:https://www.cenacondelittomilano.net/event/milano-enoteca-boscogrosso-10/
LOCATION:Enoteca Boscogrosso\, Via Giacomo Watt\, 14\, Milano\, 20143\, Italy
CATEGORIES:Milano
ATTACH;FMTTYPE=image/jpeg:https://www.cenacondelittomilano.net/wp-content/uploads/2026/01/cena-con-delitto-bozzetto-maledetto-beverly-hills-milano.jpg
END:VEVENT
BEGIN:VEVENT
DTSTART;TZID=Europe/Paris:20260507T200000
DTEND;TZID=Europe/Paris:20260507T233000
DTSTAMP:20260420T040300
CREATED:20260303T182734Z
LAST-MODIFIED:20260303T182734Z
UID:2539-1778184000-1778196600@www.cenacondelittomilano.net
SUMMARY:Milano Bicocca - Wiener Haus
DESCRIPTION:  \nTRAMA: \n \n\nSEGNALA EVENTUALI ALLERGIE O INTOLLERANZE ALIMENTARI\n\n  \n  \nRIASSUNTO DELLA TRAMA
URL:https://www.cenacondelittomilano.net/event/milano-bicocca-wiener-haus-14/
LOCATION:Wiener Haus Bicocca\, Bicocca Village\, Milano\, 20126\, Italy
CATEGORIES:Milano
ATTACH;FMTTYPE=image/jpeg:https://www.cenacondelittomilano.net/wp-content/uploads/2025/03/Delitto-nei-Videogames.jpg
END:VEVENT
BEGIN:VEVENT
DTSTART;TZID=Europe/Paris:20260528T200000
DTEND;TZID=Europe/Paris:20260528T233000
DTSTAMP:20260420T040300
CREATED:20260303T183803Z
LAST-MODIFIED:20260303T183803Z
UID:2547-1779998400-1780011000@www.cenacondelittomilano.net
SUMMARY:Milano Bicocca -Wiener Haus
DESCRIPTION:  \nTRAMA: \n \n\nSEGNALA EVENTUALI ALLERGIE O INTOLLERANZE ALIMENTARI\n\n  \n  \nRIASSUNTO DELLA TRAMA
URL:https://www.cenacondelittomilano.net/event/milano-bicocca-wiener-haus-15/
LOCATION:Wiener Haus Bicocca\, Bicocca Village\, Milano\, 20126\, Italy
CATEGORIES:Milano
ATTACH;FMTTYPE=image/jpeg:https://www.cenacondelittomilano.net/wp-content/uploads/2025/03/Trama-Delitto-alla-Sacra-Luna.jpg
END:VEVENT
END:VCALENDAR