BEGIN:VCALENDAR
VERSION:2.0
PRODID:-//Cena Con Delitto Milano - Organizza il tuo prossimo evento a Milano o Lombardia ! - ECPv6.15.20//NONSGML v1.0//EN
CALSCALE:GREGORIAN
METHOD:PUBLISH
X-WR-CALNAME:Cena Con Delitto Milano - Organizza il tuo prossimo evento a Milano o Lombardia !
X-ORIGINAL-URL:https://www.cenacondelittomilano.net
X-WR-CALDESC:Eventi per Cena Con Delitto Milano - Organizza il tuo prossimo evento a Milano o Lombardia !
REFRESH-INTERVAL;VALUE=DURATION:PT1H
X-Robots-Tag:noindex
X-PUBLISHED-TTL:PT1H
BEGIN:VTIMEZONE
TZID:Europe/Paris
BEGIN:DAYLIGHT
TZOFFSETFROM:+0100
TZOFFSETTO:+0200
TZNAME:CEST
DTSTART:20240331T010000
END:DAYLIGHT
BEGIN:STANDARD
TZOFFSETFROM:+0200
TZOFFSETTO:+0100
TZNAME:CET
DTSTART:20241027T010000
END:STANDARD
BEGIN:DAYLIGHT
TZOFFSETFROM:+0100
TZOFFSETTO:+0200
TZNAME:CEST
DTSTART:20250330T010000
END:DAYLIGHT
BEGIN:STANDARD
TZOFFSETFROM:+0200
TZOFFSETTO:+0100
TZNAME:CET
DTSTART:20251026T010000
END:STANDARD
BEGIN:DAYLIGHT
TZOFFSETFROM:+0100
TZOFFSETTO:+0200
TZNAME:CEST
DTSTART:20260329T010000
END:DAYLIGHT
BEGIN:STANDARD
TZOFFSETFROM:+0200
TZOFFSETTO:+0100
TZNAME:CET
DTSTART:20261025T010000
END:STANDARD
END:VTIMEZONE
BEGIN:VEVENT
DTSTART;TZID=Europe/Paris:20251105T200000
DTEND;TZID=Europe/Paris:20251105T233000
DTSTAMP:20260420T000325
CREATED:20251028T183453Z
LAST-MODIFIED:20251028T184200Z
UID:1945-1762372800-1762385400@www.cenacondelittomilano.net
SUMMARY:Truccazzano (MI) - D'Ado
DESCRIPTION:  \nTRAMA: \n \n  \nRIASSUNTO DELLA TRAMA \n \nmenù \n\nTAGLIERE DI SALUMI DA NOI SELEZIONATI CON GIARDINIERA DI VERDURE IN AGRODOLCE E INSALATA RUSSA ERBAZZONE EMILIANO \nPASTA CASERECCIA AL RAGÙ DI CINGHIALE \nTIRAMISU TRADIZIONALE \n\nincluso acqua\, vino di nostra selezione e caffè € 40 \nSEGNALA EVENTUALI ALLERGIE O INTOLLERANZE ALIMENTARI
URL:https://www.cenacondelittomilano.net/event/1945/
LOCATION:D’Ado\, Via delle Ore\, 9\, Albignano - Truccazzano\, Milano\, 20060
CATEGORIES:Milano
END:VEVENT
BEGIN:VEVENT
DTSTART;TZID=Europe/Paris:20251113T200000
DTEND;TZID=Europe/Paris:20251113T233000
DTSTAMP:20260420T000325
CREATED:20251014T171845Z
LAST-MODIFIED:20251014T171845Z
UID:1885-1763064000-1763076600@www.cenacondelittomilano.net
SUMMARY:Milano Bicocca - Wiener Haus
DESCRIPTION:  \nTRAMA: \n \n\nSEGNALA EVENTUALI ALLERGIE O INTOLLERANZE ALIMENTARI\nVegani\, vegetariani\, celiaci e persone con intolleranze alimentari possono disporre di portate personalizzate.  \n  \nRIASSUNTO DELLA TRAMA
URL:https://www.cenacondelittomilano.net/event/milano-bicocca-wiener-haus-8/
LOCATION:Wiener Haus Bicocca\, Bicocca Village\, Milano\, 20126\, Italy
CATEGORIES:Milano
END:VEVENT
BEGIN:VEVENT
DTSTART;TZID=Europe/Paris:20251121T203000
DTEND;TZID=Europe/Paris:20251122T000000
DTSTAMP:20260420T000325
CREATED:20251014T175112Z
LAST-MODIFIED:20251014T175112Z
UID:1899-1763757000-1763769600@www.cenacondelittomilano.net
SUMMARY:Milano - Enoteca Boscogrosso
DESCRIPTION:  \nTRAMA: \n \n\nSEGNALA EVENTUALI ALLERGIE O INTOLLERANZE ALIMENTARI\nVegani\, vegetariani\, celiaci e persone con intolleranze alimentari possono disporre di portate alternative.  \n  \nRIASSUNTO DELLA TRAMA
URL:https://www.cenacondelittomilano.net/event/milano-enoteca-boscogrosso-5/
LOCATION:Enoteca Boscogrosso\, Via Giacomo Watt\, 14\, Milano\, 20143\, Italy
CATEGORIES:Milano
END:VEVENT
BEGIN:VEVENT
DTSTART;TZID=Europe/Paris:20251128T200000
DTEND;TZID=Europe/Paris:20251128T233000
DTSTAMP:20260420T000325
CREATED:20251014T181413Z
LAST-MODIFIED:20251014T181413Z
UID:1913-1764360000-1764372600@www.cenacondelittomilano.net
SUMMARY:Solaro (MI) - Birra & Brace
DESCRIPTION:  \nTRAMA: \n \nPREZZO: 39 EURO (CENA + SPETTACOLO)\nMENU’:\n  \nSEGNALA EVENTUALI ALLERGIE O INTOLLERANZE ALIMENTARI\nVegani\, vegetariani\, celiaci e persone con intolleranze alimentari possono disporre di portate alternative.  \n  \nRIASSUNTO DELLA TRAMA
URL:https://www.cenacondelittomilano.net/event/solaro-mi-birra-brace/
LOCATION:Birra & Brace – Solaro\, Via Varese\, 175/H\, Solaro\, Milano\, 20033\, Italy
CATEGORIES:Milano
END:VEVENT
END:VCALENDAR