BEGIN:VCALENDAR
VERSION:2.0
PRODID:-//Cena Con Delitto Milano - Organizza il tuo prossimo evento a Milano o Lombardia ! - ECPv6.15.20//NONSGML v1.0//EN
CALSCALE:GREGORIAN
METHOD:PUBLISH
X-ORIGINAL-URL:https://www.cenacondelittomilano.net
X-WR-CALDESC:Eventi per Cena Con Delitto Milano - Organizza il tuo prossimo evento a Milano o Lombardia !
REFRESH-INTERVAL;VALUE=DURATION:PT1H
X-Robots-Tag:noindex
X-PUBLISHED-TTL:PT1H
BEGIN:VTIMEZONE
TZID:Europe/Paris
BEGIN:DAYLIGHT
TZOFFSETFROM:+0100
TZOFFSETTO:+0200
TZNAME:CEST
DTSTART:20240331T010000
END:DAYLIGHT
BEGIN:STANDARD
TZOFFSETFROM:+0200
TZOFFSETTO:+0100
TZNAME:CET
DTSTART:20241027T010000
END:STANDARD
BEGIN:DAYLIGHT
TZOFFSETFROM:+0100
TZOFFSETTO:+0200
TZNAME:CEST
DTSTART:20250330T010000
END:DAYLIGHT
BEGIN:STANDARD
TZOFFSETFROM:+0200
TZOFFSETTO:+0100
TZNAME:CET
DTSTART:20251026T010000
END:STANDARD
BEGIN:DAYLIGHT
TZOFFSETFROM:+0100
TZOFFSETTO:+0200
TZNAME:CEST
DTSTART:20260329T010000
END:DAYLIGHT
BEGIN:STANDARD
TZOFFSETFROM:+0200
TZOFFSETTO:+0100
TZNAME:CET
DTSTART:20261025T010000
END:STANDARD
BEGIN:DAYLIGHT
TZOFFSETFROM:+0100
TZOFFSETTO:+0200
TZNAME:CEST
DTSTART:20270328T010000
END:DAYLIGHT
BEGIN:STANDARD
TZOFFSETFROM:+0200
TZOFFSETTO:+0100
TZNAME:CET
DTSTART:20271031T010000
END:STANDARD
END:VTIMEZONE
BEGIN:VEVENT
DTSTART;TZID=Europe/Paris:20260416T200000
DTEND;TZID=Europe/Paris:20260417T000000
DTSTAMP:20260425T183212
CREATED:20260320T004234Z
LAST-MODIFIED:20260320T004234Z
UID:2679-1776369600-1776384000@www.cenacondelittomilano.net
SUMMARY:Like It - Cenate Sotto (BG)
DESCRIPTION:  \nTRAMA: \n \n  \nSEGNALA EVENTUALI ALLERGIE O INTOLLERANZE ALIMENTARI\n  \n  \nRIASSUNTO DELLA TRAMA
URL:https://www.cenacondelittomilano.net/event/like-it-cenate-sotto-bg/
LOCATION:Like It – Cenate Sotto\, Via Don Luigi Sturzo\, 19\, Cenate Sotto\, 24069\, Italy
CATEGORIES:Bergamo
ATTACH;FMTTYPE=image/jpeg:https://www.cenacondelittomilano.net/wp-content/uploads/2025/03/Delitto-in-azienda.jpg
END:VEVENT
BEGIN:VEVENT
DTSTART;TZID=Europe/Paris:20260408T200000
DTEND;TZID=Europe/Paris:20260408T233000
DTSTAMP:20260425T183212
CREATED:20260217T135516Z
LAST-MODIFIED:20260217T135516Z
UID:2302-1775678400-1775691000@www.cenacondelittomilano.net
SUMMARY:Curno (BG) - Wiener Haus
DESCRIPTION:  \nTRAMA: \n \n  \nSEGNALA EVENTUALI ALLERGIE O INTOLLERANZE ALIMENTARI\n \n  \nRIASSUNTO DELLA TRAMA
URL:https://www.cenacondelittomilano.net/event/curno-bg-wiener-haus-12/
LOCATION:Wiener Haus Curno\, Via Bergamo\, 9\, Curno BG\, 24035\, Italy
CATEGORIES:Bergamo
END:VEVENT
BEGIN:VEVENT
DTSTART;TZID=Europe/Paris:20260318T200000
DTEND;TZID=Europe/Paris:20260318T233000
DTSTAMP:20260425T183212
CREATED:20260217T133740Z
LAST-MODIFIED:20260217T133740Z
UID:2284-1773864000-1773876600@www.cenacondelittomilano.net
SUMMARY:Curno (BG) - Wiener Haus
DESCRIPTION:  \nTRAMA: \n \n  \nSEGNALA EVENTUALI ALLERGIE O INTOLLERANZE ALIMENTARI\n \n  \nRIASSUNTO DELLA TRAMA
URL:https://www.cenacondelittomilano.net/event/curno-bg-wiener-haus-11/
LOCATION:Wiener Haus Curno\, Via Bergamo\, 9\, Curno BG\, 24035\, Italy
CATEGORIES:Bergamo
END:VEVENT
BEGIN:VEVENT
DTSTART;TZID=Europe/Paris:20260218T200000
DTEND;TZID=Europe/Paris:20260218T233000
DTSTAMP:20260425T183212
CREATED:20260121T191721Z
LAST-MODIFIED:20260129T105008Z
UID:2177-1771444800-1771457400@www.cenacondelittomilano.net
SUMMARY:Curno (BG) - Wiener Haus
DESCRIPTION:  \nTRAMA: \n \n \nSEGNALA EVENTUALI ALLERGIE O INTOLLERANZE ALIMENTARI\n  \n  \nRIASSUNTO DELLA TRAMA
URL:https://www.cenacondelittomilano.net/event/curno-bg-wiener-haus-10/
LOCATION:Wiener Haus Curno\, Via Bergamo\, 9\, Curno BG\, 24035\, Italy
CATEGORIES:Bergamo
END:VEVENT
BEGIN:VEVENT
DTSTART;TZID=Europe/Paris:20260130T200000
DTEND;TZID=Europe/Paris:20260130T233000
DTSTAMP:20260425T183212
CREATED:20251201T172912Z
LAST-MODIFIED:20251201T172912Z
UID:2072-1769803200-1769815800@www.cenacondelittomilano.net
SUMMARY:Curno (BG) - Wiener Haus
DESCRIPTION:  \nTRAMA: \n \n\nSEGNALA EVENTUALI ALLERGIE O INTOLLERANZE ALIMENTARI\n  \n  \nRIASSUNTO DELLA TRAMA
URL:https://www.cenacondelittomilano.net/event/curno-bg-wiener-haus-9/
LOCATION:Wiener Haus Curno\, Via Bergamo\, 9\, Curno BG\, 24035\, Italy
CATEGORIES:Bergamo
END:VEVENT
BEGIN:VEVENT
DTSTART;TZID=Europe/Paris:20260116T200000
DTEND;TZID=Europe/Paris:20260116T233000
DTSTAMP:20260425T183212
CREATED:20251201T172233Z
LAST-MODIFIED:20251201T172233Z
UID:2065-1768593600-1768606200@www.cenacondelittomilano.net
SUMMARY:Curno (BG) - Wiener Haus
DESCRIPTION:  \nTRAMA: \n \n\nSEGNALA EVENTUALI ALLERGIE O INTOLLERANZE ALIMENTARI\n  \n  \nRIASSUNTO DELLA TRAMA
URL:https://www.cenacondelittomilano.net/event/curno-bg-wiener-haus-8/
LOCATION:Wiener Haus Curno\, Via Bergamo\, 9\, Curno BG\, 24035\, Italy
CATEGORIES:Bergamo
END:VEVENT
BEGIN:VEVENT
DTSTART;TZID=Europe/Paris:20251217T200000
DTEND;TZID=Europe/Paris:20251217T233000
DTSTAMP:20260425T183212
CREATED:20251101T142104Z
LAST-MODIFIED:20251101T142104Z
UID:2008-1766001600-1766014200@www.cenacondelittomilano.net
SUMMARY:Curno (BG) - Wiener Haus
DESCRIPTION:  \nTRAMA: \n \n\nSEGNALA EVENTUALI ALLERGIE O INTOLLERANZE ALIMENTARI\n  \n  \nRIASSUNTO DELLA TRAMA
URL:https://www.cenacondelittomilano.net/event/curno-bg-wiener-haus-7/
LOCATION:Wiener Haus Curno\, Via Bergamo\, 9\, Curno BG\, 24035\, Italy
CATEGORIES:Bergamo
END:VEVENT
BEGIN:VEVENT
DTSTART;TZID=Europe/Paris:20251120T203000
DTEND;TZID=Europe/Paris:20251121T000000
DTSTAMP:20260425T183212
CREATED:20251014T194138Z
LAST-MODIFIED:20251014T194138Z
UID:1915-1763670600-1763683200@www.cenacondelittomilano.net
SUMMARY:Albano Sant'Alessandro (BG) - Manga Restaurant
DESCRIPTION:  \nTRAMA: \n \n\nSEGNALA EVENTUALI ALLERGIE O INTOLLERANZE ALIMENTARI\nVegani\, vegetariani\, celiaci e persone con intolleranze alimentari possono disporre di portate personalizzate.  \n  \nRIASSUNTO DELLA TRAMA
URL:https://www.cenacondelittomilano.net/event/albano-santalessandro-bg-manga-restaurant/
LOCATION:Manga Restaurant\, Via Tonale\, 46/C\, Albano Sant'Alessandro\, Bergamo\, 24061\, Italy
CATEGORIES:Bergamo
END:VEVENT
BEGIN:VEVENT
DTSTART;TZID=Europe/Paris:20251119T200000
DTEND;TZID=Europe/Paris:20251119T233000
DTSTAMP:20260425T183212
CREATED:20251014T173153Z
LAST-MODIFIED:20251014T173153Z
UID:1891-1763582400-1763595000@www.cenacondelittomilano.net
SUMMARY:Curno (BG) - Wiener Haus
DESCRIPTION:  \nTRAMA: \n \n\nSEGNALA EVENTUALI ALLERGIE O INTOLLERANZE ALIMENTARI\nVegani\, vegetariani\, celiaci e persone con intolleranze alimentari possono disporre di portate personalizzate.  \n  \nRIASSUNTO DELLA TRAMA
URL:https://www.cenacondelittomilano.net/event/curno-bg-wiener-haus-6/
LOCATION:Wiener Haus Curno\, Via Bergamo\, 9\, Curno BG\, 24035\, Italy
CATEGORIES:Bergamo
END:VEVENT
BEGIN:VEVENT
DTSTART;TZID=Europe/Paris:20251022T200000
DTEND;TZID=Europe/Paris:20251022T233000
DTSTAMP:20260425T183212
CREATED:20250909T131951Z
LAST-MODIFIED:20251008T135453Z
UID:1764-1761163200-1761175800@www.cenacondelittomilano.net
SUMMARY:Curno (BG) - Wiener Haus
DESCRIPTION:  \nTRAMA: \n \n\nSEGNALA EVENTUALI ALLERGIE O INTOLLERANZE ALIMENTARI\nVegani\, vegetariani\, celiaci e persone con intolleranze alimentari possono disporre di portate personalizzate.  \n  \nRIASSUNTO DELLA TRAMA
URL:https://www.cenacondelittomilano.net/event/curno-bg-wiener-haus-5/
LOCATION:Wiener Haus Curno\, Via Bergamo\, 9\, Curno BG\, 24035\, Italy
CATEGORIES:Bergamo
END:VEVENT
BEGIN:VEVENT
DTSTART;TZID=Europe/Paris:20250924T200000
DTEND;TZID=Europe/Paris:20250924T233000
DTSTAMP:20260425T183212
CREATED:20250909T122743Z
LAST-MODIFIED:20250915T142415Z
UID:1713-1758744000-1758756600@www.cenacondelittomilano.net
SUMMARY:Curno (BG) - Wiener Haus
DESCRIPTION:  \nTRAMA: \n \nSONO DISPONIBILI DUE TIPI DI MENU’ (uno da 25 euro e uno da 32 euro).\nSEGNALA EVENTUALI ALLERGIE O INTOLLERANZE ALIMENTARI\nVegani\, vegetariani\, celiaci e persone con intolleranze alimentari possono disporre di portate personalizzate.  \n  \nRIASSUNTO DELLA TRAMA
URL:https://www.cenacondelittomilano.net/event/curno-bg-wiener-haus-4/
LOCATION:Wiener Haus Curno\, Via Bergamo\, 9\, Curno BG\, 24035\, Italy
CATEGORIES:Bergamo
END:VEVENT
BEGIN:VEVENT
DTSTART;TZID=Europe/Paris:20250530T200000
DTEND;TZID=Europe/Paris:20250530T233000
DTSTAMP:20260425T183212
CREATED:20250403T090108Z
LAST-MODIFIED:20250403T090108Z
UID:1050-1748635200-1748647800@www.cenacondelittomilano.net
SUMMARY:Curno (BG) - Wiener Haus
DESCRIPTION:  \nTRAMA: \n \n  \nSONO DISPONIBILI DUE TIPI DI MENU’ (uno da 25 euro e uno da 32 euro).\nSEGNALA EVENTUALI ALLERGIE O INTOLLERANZE ALIMENTARI\nVegani\, vegetariani\, celiaci e persone con intolleranze alimentari possono disporre di portate personalizzate. La scelta del menu va effettuata direttamente sul posto la sera dell’evento. \n  \nRIASSUNTO DELLA TRAMA
URL:https://www.cenacondelittomilano.net/event/curno-bg-wiener-haus-3/
LOCATION:Wiener Haus Curno\, Via Bergamo\, 9\, Curno BG\, 24035\, Italy
CATEGORIES:Bergamo
END:VEVENT
BEGIN:VEVENT
DTSTART;TZID=Europe/Paris:20250430T200000
DTEND;TZID=Europe/Paris:20250430T233000
DTSTAMP:20260425T183212
CREATED:20250402T175417Z
LAST-MODIFIED:20250402T175417Z
UID:1018-1746043200-1746055800@www.cenacondelittomilano.net
SUMMARY:Curno (BG) - Wiener Haus
DESCRIPTION:  \nTRAMA: \n \nSONO DISPONIBILI DUE TIPI DI MENU’ (uno da 25 euro e uno da 32 euro).\nSEGNALA EVENTUALI ALLERGIE O INTOLLERANZE ALIMENTARI\nVegani\, vegetariani\, celiaci e persone con intolleranze alimentari possono disporre di portate personalizzate. La scelta del menu va effettuata direttamente sul posto la sera dell’evento. \n  \nRIASSUNTO DELLA TRAMA
URL:https://www.cenacondelittomilano.net/event/curno-bg-wiener-haus-2/
LOCATION:Wiener Haus Curno\, Via Bergamo\, 9\, Curno BG\, 24035\, Italy
CATEGORIES:Bergamo
END:VEVENT
BEGIN:VEVENT
DTSTART;TZID=Europe/Paris:20250328T200000
DTEND;TZID=Europe/Paris:20250328T233000
DTSTAMP:20260425T183212
CREATED:20250325T131209Z
LAST-MODIFIED:20250325T131209Z
UID:877-1743192000-1743204600@www.cenacondelittomilano.net
SUMMARY:Curno (BG) - Wiener Haus
DESCRIPTION:  \nTRAMA: \nMorte al Monastero \n \nSONO DISPONIBILI DUE TIPI DI MENU’ (uno da 25 euro e uno da 32 euro).\nSEGNALA EVENTUALI ALLERGIE O INTOLLERANZE ALIMENTARI\nVegani\, vegetariani\, celiaci e persone con intolleranze alimentari possono disporre di portate personalizzate. La scelta del menu va effettuata direttamente sul posto la sera dell’evento. \n  \nRIASSUNTO DELLA TRAMA \n \n\n 
URL:https://www.cenacondelittomilano.net/event/curno-bg-wiener-haus/
LOCATION:Wiener Haus Curno\, Via Bergamo\, 9\, Curno BG\, 24035\, Italy
CATEGORIES:Bergamo
END:VEVENT
END:VCALENDAR